BEGIN:VCALENDAR
VERSION:2.0
PRODID:-//eventon.com NONSGML v1.0//EN
BEGIN:VEVENT
UID:69e732f2bd403
DTSTAMP:20260421T101858
DTSTART:20200625T180000Z
DTEND:20200625T215000Z
LOCATION:Rosenau Rotebühlstraße 109b\,  70178 Stuttgart
SUMMARY:Stuttgart\,  Rosenau
DESCRIPTION: Stuttgart\,  Rosenau
END:VEVENT
END:VCALENDAR