BEGIN:VCALENDAR
VERSION:2.0
PRODID:-//eventon.com NONSGML v1.0//EN
BEGIN:VEVENT
UID:69e9f0c6a296d
DTSTAMP:20260423T121326
DTSTART:20220219T180000Z
DTEND:20220219T215000Z
LOCATION:Vorderhaus Habsburgerstraße 9
SUMMARY:Freiburg\,  Vorderhaus
DESCRIPTION: Freiburg\,  Vorderhaus
END:VEVENT
END:VCALENDAR