BEGIN:VCALENDAR
VERSION:2.0
PRODID:-//eventon.com NONSGML v1.0//EN
BEGIN:VEVENT
UID:69e9f5ffadcb2
DTSTAMP:20260423T123543
DTSTART:20230923T170000Z
DTEND:20230923T215000Z
LOCATION:Quatsch Comedy Club in der NachtKantine im Werksviertel-Mitte Speicherstraße 17\,  81671 München
SUMMARY:München\,  Quatsch Comedy Club
DESCRIPTION: München\,  Quatsch Comedy Club
END:VEVENT
END:VCALENDAR