BEGIN:VCALENDAR
VERSION:2.0
PRODID:-//eventon.com NONSGML v1.0//EN
BEGIN:VEVENT
UID:69e8584d3ba67
DTSTAMP:20260422T071037
DTSTART:20231020T170000Z
DTEND:20231020T215000Z
LOCATION:Quatsch Comedy Club in der NachtKantine im Werksviertel-Mitte Speicherstraße 17\,  81671 München
SUMMARY:München\,  Quatsch Comedy Club
DESCRIPTION: München\,  Quatsch Comedy Club
END:VEVENT
END:VCALENDAR