BEGIN:VCALENDAR
VERSION:2.0
PRODID:-//eventon.com NONSGML v1.0//EN
BEGIN:VEVENT
UID:69e734e1512a7
DTSTAMP:20260421T102713
DTSTART:20240622T180000Z
DTEND:20240622T215000Z
LOCATION:Quatsch Comedy Club Friedrichstraße 107\,  10117 Berlin
SUMMARY:Berlin\,  quatsch Comedy Club
DESCRIPTION: Berlin\,  quatsch Comedy Club
END:VEVENT
END:VCALENDAR