BEGIN:VCALENDAR
VERSION:2.0
PRODID:-//eventon.com NONSGML v1.0//EN
BEGIN:VEVENT
UID:69e73cd02a4b5
DTSTAMP:20260421T110104
DTSTART:20240623T150000Z
DTEND:20240623T215000Z
LOCATION:Quatsch Comedy Club Friedrichstraße 107\,  10117 Berlin
SUMMARY:Berlin\,  quatsch Comedy Club
DESCRIPTION: Berlin\,  quatsch Comedy Club
END:VEVENT
END:VCALENDAR