BEGIN:VCALENDAR
VERSION:2.0
PRODID:-//eventon.com NONSGML v1.0//EN
BEGIN:VEVENT
UID:69e732a851bad
DTSTAMP:20260421T101744
DTSTART:20260409T170000Z
DTEND:20260409T215000Z
LOCATION:
SUMMARY:Rastatt\,  Komische Nacht
DESCRIPTION: Rastatt\,  Komische Nacht
END:VEVENT
END:VCALENDAR