BEGIN:VCALENDAR
VERSION:2.0
PRODID:-//eventon.com NONSGML v1.0//EN
BEGIN:VEVENT
UID:69e732f2b0489
DTSTAMP:20260421T101858
DTSTART:20260319T173000Z
DTEND:20260319T215000Z
LOCATION:Musikcafe B14 Nürnbergerstraße 10\,  92533 Wernberg-Köblitz
SUMMARY:Wernberg-Köblitz
DESCRIPTION: Wernberg-Köblitz
END:VEVENT
END:VCALENDAR